BEGIN:VCALENDAR
VERSION:2.0
PRODID:-//ChamberMaster//Event Calendar 2.0//EN
METHOD:PUBLISH
X-PUBLISHED-TTL:P3D
REFRESH-INTERVAL:P3D
CALSCALE:GREGORIAN
BEGIN:VEVENT
DTSTART:20190724T133000Z
DTEND:20190724T153000Z
X-MICROSOFT-CDO-ALLDAYEVENT:FALSE
SUMMARY:New Member Reception Coffee Connect
DESCRIPTION:New Member Reception Coffee Connect
X-ALT-DESC;FMTTYPE=text/html:New Member Reception Coffee Connect
LOCATION:Caldwell Chamber of Commerce 704 Blaine St. Caldwell\, Id.
UID:e.2335.4688
SEQUENCE:3
DTSTAMP:20260423T162955Z
URL:https://business.caldwellchamber.org/events/details/new-member-reception-coffee-connect-4688
END:VEVENT

END:VCALENDAR
