BEGIN:VCALENDAR
VERSION:2.0
PRODID:-//ChamberMaster//Event Calendar 2.0//EN
METHOD:PUBLISH
X-PUBLISHED-TTL:P3D
REFRESH-INTERVAL:P3D
CALSCALE:GREGORIAN
BEGIN:VEVENT
DTSTART:20260512T220000Z
DTEND:20260512T233000Z
X-MICROSOFT-CDO-ALLDAYEVENT:FALSE
SUMMARY:NNU eCampus Launch Celebration
DESCRIPTION:Northwest Nazarene University invites you to join us as we officially "cut the ribbon" on our newest innovation: NNU eCampus. Join us for intentional networking\, refreshments\, and exciting news! Please park at Johnson's Sports Center on Dewey Avenue.
X-ALT-DESC;FMTTYPE=text/html:Northwest Nazarene University invites you to join us as we officially &quot\;cut the ribbon&quot\; on our newest innovation: NNU eCampus. Join us for intentional networking\, refreshments\, and exciting news! Please park at Johnson&#39\;s Sports Center on Dewey Avenue.
LOCATION:NNU Conrad Commons\, Walden Hall 623 S. University Blvd. Nampa\, ID
UID:e.2335.7187
SEQUENCE:3
DTSTAMP:20260420T234402Z
URL:https://business.caldwellchamber.org/events/details/nnu-ecampus-launch-celebration-7187
END:VEVENT

END:VCALENDAR
