BEGIN:VCALENDAR
VERSION:2.0
PRODID:-//ChamberMaster//Event Calendar 2.0//EN
METHOD:PUBLISH
X-PUBLISHED-TTL:P3D
REFRESH-INTERVAL:P3D
CALSCALE:GREGORIAN
BEGIN:VEVENT
DTSTART:20180313T171500Z
DTEND:20180313T190000Z
X-MICROSOFT-CDO-ALLDAYEVENT:FALSE
SUMMARY:Noonbreak Lunch
DESCRIPTION:Please join us for NoonBreak Lunch.\n\nHosted by the Caldwell Chamber Education Committee\n\nIntroduction to the Education Committee\n\nPurpose and upcoming events for the Education Committee\n\n\n\nGuest Speakers:\n\nVallivue & Caldwell Superintendents\n\nCollege of Idaho Coach Garson
X-ALT-DESC;FMTTYPE=text/html:Please join us for NoonBreak Lunch.<br />\nHosted by the Caldwell Chamber Education Committee<br />\nIntroduction to the Education Committee<br />\nPurpose and upcoming events for the Education Committee<br />\n<br />\nGuest Speakers:<br />\nVallivue&nbsp\;&amp\; Caldwell Superintendents<br />\nCollege of Idaho Coach Garson
LOCATION:Simplot Dining Hall The College of Idaho
UID:e.2335.2867
SEQUENCE:3
DTSTAMP:20260422T123000Z
URL:https://business.caldwellchamber.org/events/details/noonbreak-lunch-03-13-2018-2867
END:VEVENT

END:VCALENDAR
