BEGIN:VCALENDAR
VERSION:2.0
PRODID:-//ChamberMaster//Event Calendar 2.0//EN
METHOD:PUBLISH
X-PUBLISHED-TTL:P3D
REFRESH-INTERVAL:P3D
CALSCALE:GREGORIAN
BEGIN:VEVENT
DTSTART:20161108T181500Z
DTEND:20161108T200000Z
X-MICROSOFT-CDO-ALLDAYEVENT:FALSE
SUMMARY:Noonbreak Lunch sponsored by Best Bath Systems
DESCRIPTION:The Caldwell Chamber would like to invited you to attend our monthly luncheon. The luncheons host a variety of speakers from the community who cover relevant and meaningful topics. \n\n\n\n\n\nPlease register no later than Nov 4th 12pm. Because of food count purposes\, any registrations after Fri.\, the 4th\, at 12pm will be charged $20 for lunch instead of the $15 regular price.
X-ALT-DESC;FMTTYPE=text/html:<span style="color: rgb(51\, 51\, 51)\; font-family: sans-serif\, Arial\, Verdana\, 'Trebuchet MS'\; font-size: 13px\; line-height: 18.9091px\; background-color: rgb(255\, 255\, 255)\;">The Caldwell Chamber would like to invited you to attend our monthly luncheon.&nbsp\;The luncheons host a variety of speakers from the community who cover relevant and meaningful topics.&nbsp\;</span><br style="color: rgb(51\, 51\, 51)\; font-family: sans-serif\, Arial\, Verdana\, 'Trebuchet MS'\; font-size: 13px\; line-height: 18.9091px\;" />\n<br />\n<br />\n<em style="color: rgb(51\, 51\, 51)\; font-family: sans-serif\, Arial\, Verdana\, 'Trebuchet MS'\; font-size: 13px\; line-height: 18.9091px\;"><span style="font-size: 12px\;">Please register no later than Nov 4th&nbsp\;12pm. Because of food count purposes\, any registrations after Fri.\, the 4th\, at&nbsp\;12pm&nbsp\;will be charged $20 for lunch instead of the $15 regular price.</span></em>
LOCATION:College of Idaho 2112 Cleveland Blvd.\, Caldwell College map
UID:e.2335.872
SEQUENCE:3
DTSTAMP:20260421T123232Z
URL:https://business.caldwellchamber.org/events/details/noonbreak-lunch-sponsored-by-best-bath-systems-11-08-2016-872
END:VEVENT

END:VCALENDAR
