BEGIN:VCALENDAR
VERSION:2.0
PRODID:-//ChamberMaster//Event Calendar 2.0//EN
METHOD:PUBLISH
X-PUBLISHED-TTL:P3D
REFRESH-INTERVAL:P3D
CALSCALE:GREGORIAN
BEGIN:VEVENT
DTSTART:20201020T171500Z
DTEND:20201020T183000Z
X-MICROSOFT-CDO-ALLDAYEVENT:FALSE
SUMMARY:October Noonbreak Luncheon
DESCRIPTION:The Caldwell Chamber of Commerce is please to partner with Destination Caldwell to hold our Noonbreak Luncheon at Indian Creek Plaza. This "brown bag" luncheon will provide an opportunity to support our local restaurants\; choose your favorite or try something new. You must register to attend in order that we adhere to SWDH protocol. We look forward to seeing you there!
X-ALT-DESC;FMTTYPE=text/html:The Caldwell Chamber of Commerce is please to partner with Destination Caldwell to hold our Noonbreak Luncheon at Indian Creek Plaza. This &quot\;brown bag&quot\; luncheon will provide an opportunity to support our local restaurants\; choose your favorite or try something new. You must register to attend in order that we adhere to SWDH protocol. We look forward to seeing you there!
LOCATION:Indian Creek Plaza
UID:e.2335.5471
SEQUENCE:3
DTSTAMP:20260424T162544Z
URL:https://business.caldwellchamber.org/events/details/october-noonbreak-luncheon-5471
END:VEVENT

END:VCALENDAR
