BEGIN:VCALENDAR
VERSION:2.0
PRODID:-//ChamberMaster//Event Calendar 2.0//EN
METHOD:PUBLISH
X-PUBLISHED-TTL:P3D
REFRESH-INTERVAL:P3D
CALSCALE:GREGORIAN
BEGIN:VEVENT
DTSTART:20190731T000000Z
DTEND:20190731T030000Z
X-MICROSOFT-CDO-ALLDAYEVENT:FALSE
SUMMARY:online basic bird watching class
DESCRIPTION:Online Basic bird watching July 30th 1. Birds that are unique 2. How To Recognize birds\, by sight\, sound and flight and how to use a field guide 3. identification birds by body size. Beak size\, and feathers 4. Learn the natural history of birds in the world 5. where look for birds regionally 6. Other ask students if there are other topics they want to learn about. What is the best timed day to spot birds? 7. Binoculars and other equipment needed to spot birds needed a tripod or etc. 8. The migration pattern of birds $46.00 per adult $12.00 per child and $65.00 per group and family contact dallins549@gmail.com or call me at 208-351-3407 my class will be on google class I will give you code for the class https://www.facebook.com/groups/516694498714579/
X-ALT-DESC;FMTTYPE=text/html:Online Basic bird watching July 30th 1. Birds that are unique 2. How To Recognize birds\, by sight\, sound and flight and how to use a field guide 3. identification birds by body size. Beak size\, and feathers 4. Learn the natural history of birds in the world 5. where look for birds regionally 6. Other ask students if there are other topics they want to learn about. What is the best timed day to spot birds? 7. Binoculars and other equipment needed to spot birds needed a tripod or etc. 8. The migration pattern of birds $46.00 per adult $12.00 per child and $65.00 per group and family contact dallins549@gmail.com or call me at 208-351-3407 my class will be on google class I will give you code for the class https://www.facebook.com/groups/516694498714579/
LOCATION:google class
UID:e.2335.5114
SEQUENCE:3
DTSTAMP:20260423T162627Z
URL:https://business.caldwellchamber.org/events/details/online-basic-bird-watching-class-5114
END:VEVENT

END:VCALENDAR
