BEGIN:VCALENDAR
VERSION:2.0
PRODID:-//ChamberMaster//Event Calendar 2.0//EN
METHOD:PUBLISH
X-PUBLISHED-TTL:P3D
REFRESH-INTERVAL:P3D
CALSCALE:GREGORIAN
BEGIN:VEVENT
DTSTART:20190725T000000Z
DTEND:20190725T030000Z
X-MICROSOFT-CDO-ALLDAYEVENT:FALSE
SUMMARY:online wildlife class
DESCRIPTION:Online Wildlife class July 24th 1. unique wildlife in the United States. 2. courtship and behavior 3. learn how to identify wildlife 4. learn how to identify wildlife by their habitat 5. Learn about the conservation status of wildlife species 6. learn about wildlife Territoriality and Aggression 7. what wildlife need to survive 8.Predator-Prey Relationships\, and Mutualistic Relationships\, Parasitic Relationships 9. and other topics people are interested in $40.00 per adult\, $10.00 per child $55.00 per family or group contact dallins549@gmail.com or call me at 208-351-3407 my class will be on google class I will give you code for the class https://www.facebook.com/groups/715600528629934/
X-ALT-DESC;FMTTYPE=text/html:Online Wildlife class July 24th 1. unique wildlife in the United States. 2. courtship and behavior 3. learn how to identify wildlife 4. learn how to identify wildlife by their habitat 5. Learn about the conservation status of wildlife species 6. learn about wildlife Territoriality and Aggression 7. what wildlife need to survive 8.Predator-Prey Relationships\, and Mutualistic Relationships\, Parasitic Relationships 9. and other topics people are interested in $40.00 per adult\, $10.00 per child $55.00 per family or group contact dallins549@gmail.com or call me at 208-351-3407 my class will be on google class I will give you code for the class https://www.facebook.com/groups/715600528629934/
LOCATION:google class
UID:e.2335.5113
SEQUENCE:3
DTSTAMP:20260423T162813Z
URL:https://business.caldwellchamber.org/events/details/online-wildlife-class-5113
END:VEVENT

END:VCALENDAR
