BEGIN:VCALENDAR
VERSION:2.0
PRODID:-//ChamberMaster//Event Calendar 2.0//EN
METHOD:PUBLISH
X-PUBLISHED-TTL:P3D
REFRESH-INTERVAL:P3D
CALSCALE:GREGORIAN
BEGIN:VEVENT
DTSTART:20190803T160000Z
DTEND:20190804T010000Z
X-MICROSOFT-CDO-ALLDAYEVENT:FALSE
SUMMARY:Open House
DESCRIPTION:A Free Day of Dance\, Treats\, and Fun! Join Illusion Dance Studios Saturday\, August 3rd for our Open House. Come see the studio\, meet instructors\, enjoy preview classes for all ages\, and take advantage of the best of the season registration offers for new students. Intro classes are free\, but space is limited and available on a first-come-first-served basis. Preregistration is strongly recommended. Please fill out the form on our website and we'll contact you to reserve your spot in the classes of your choice. https://illusiondancestudios.com/get-started
X-ALT-DESC;FMTTYPE=text/html:A Free Day of Dance\, Treats\, and Fun! Join Illusion Dance Studios Saturday\, August 3rd for our Open House. Come see the studio\, meet instructors\, enjoy preview classes for all ages\, and take advantage of the best of the season registration offers for new students. Intro classes are free\, but space is limited and available on a first-come-first-served basis. Preregistration is strongly recommended. Please fill out the form on our website and we&#39\;ll contact you to reserve your spot in the classes of your choice. https://illusiondancestudios.com/get-started
LOCATION:11315 Ustick Rd Nampa\, ID 83687
UID:e.2335.5156
SEQUENCE:3
DTSTAMP:20260423T191831Z
URL:https://business.caldwellchamber.org/events/details/open-house-5156
END:VEVENT

END:VCALENDAR
