BEGIN:VCALENDAR
VERSION:2.0
PRODID:-//ChamberMaster//Event Calendar 2.0//EN
METHOD:PUBLISH
X-PUBLISHED-TTL:P3D
REFRESH-INTERVAL:P3D
CALSCALE:GREGORIAN
BEGIN:VEVENT
DTSTART:20260426T010000Z
DTEND:20260426T030000Z
X-MICROSOFT-CDO-ALLDAYEVENT:FALSE
SUMMARY:Piano Duets: Brahms Hungarian Dances
DESCRIPTION:Join us for our first annual piano duet concert\, where C of I faculty\, students\, and top pianists from across the Treasure valley convene to present an exhilarating piano duet performance\, this year we're featuring Brahms' 21 Hungarian Dances! With a special introduction by guest musicologist\, Bradly Berg. Performance begins at 7:00pm House opens at 6:30pm Reception to follow in the foyer\, with sweet treats!
X-ALT-DESC;FMTTYPE=text/html:Join us for our first annual piano duet concert\, where C of I faculty\, students\, and top pianists from across the Treasure valley convene to present an exhilarating piano duet performance\, this year we&#39\;re featuring Brahms&#39\; 21 Hungarian Dances! With a special introduction by guest musicologist\, Bradly Berg. Performance begins at 7:00pm House opens at 6:30pm Reception to follow in the foyer\, with sweet treats!
LOCATION:College of Idaho\, Langroise Recital Hall
UID:e.2335.7184
SEQUENCE:3
DTSTAMP:20260420T233934Z
URL:https://business.caldwellchamber.org/events/details/piano-duets-brahms-hungarian-dances-7184
END:VEVENT

END:VCALENDAR
