BEGIN:VCALENDAR
VERSION:2.0
PRODID:-//ChamberMaster//Event Calendar 2.0//EN
METHOD:PUBLISH
X-PUBLISHED-TTL:P3D
REFRESH-INTERVAL:P3D
CALSCALE:GREGORIAN
BEGIN:VEVENT
DTSTART;VALUE=DATE:20181123
DTEND;VALUE=DATE:20181126
TRANSP:TRANSPARENT
X-MICROSOFT-CDO-ALLDAYEVENT:TRUE
SUMMARY:Plentiful Plate of Giving
DESCRIPTION:Food & toy drive following Thanksgiving weekend.
X-ALT-DESC;FMTTYPE=text/html:Food &amp\; toy drive following Thanksgiving weekend.
LOCATION:
UID:e.2335.3511
SEQUENCE:3
DTSTAMP:20260423T054914Z
URL:https://business.caldwellchamber.org/events/details/plentiful-plate-of-giving-3511
END:VEVENT

END:VCALENDAR
