BEGIN:VCALENDAR
VERSION:2.0
PRODID:-//ChamberMaster//Event Calendar 2.0//EN
METHOD:PUBLISH
X-PUBLISHED-TTL:P3D
REFRESH-INTERVAL:P3D
CALSCALE:GREGORIAN
BEGIN:VEVENT
DTSTART:20190426T160000Z
DTEND:20190427T210000Z
X-MICROSOFT-CDO-ALLDAYEVENT:FALSE
SUMMARY:Red Cross Sound the Alarm smoke alarm installation event
DESCRIPTION:Volunteer to help the Idaho Red Cross and its community partners install free smoke alarms in Nampa homes and teach families about fire safety April 26-27 from 10 a.m.-3 p.m. Volunteers work in teams of three\, and training will be provided. Register at https://rdcrss.org/2HmDNun. You can volunteer one day or both.
X-ALT-DESC;FMTTYPE=text/html:Volunteer to help the Idaho Red Cross and its community partners install free smoke alarms in Nampa homes and teach families about fire safety April 26-27 from 10 a.m.-3 p.m. Volunteers work in teams of three\, and training will be provided. Register at https://rdcrss.org/2HmDNun. You can volunteer one day or both.
LOCATION:Hispanic Cultural Center of Idaho\, 315 Stampede Way\, Nampa
UID:e.2335.4982
SEQUENCE:3
DTSTAMP:20260423T115337Z
URL:https://business.caldwellchamber.org/events/details/red-cross-sound-the-alarm-smoke-alarm-installation-event-4982
END:VEVENT

END:VCALENDAR
