BEGIN:VCALENDAR
VERSION:2.0
PRODID:-//ChamberMaster//Event Calendar 2.0//EN
METHOD:PUBLISH
X-PUBLISHED-TTL:P3D
REFRESH-INTERVAL:P3D
CALSCALE:GREGORIAN
BEGIN:VEVENT
DTSTART:20170923T160000Z
DTEND:20170925T040000Z
X-MICROSOFT-CDO-ALLDAYEVENT:FALSE
SUMMARY:Red River 15th Annual Social Powwow
DESCRIPTION:Red River Powwow Association is pleased to announce its 15th Annual Social Powwow will be held on September 23 and 24\, 2017 at O'Connor Field House\, 2207 Blaine St.\, Caldwell\, ID. Everyone is welcome to join us for this family event! This two day celebration includes Native American drumming and dancing. There will be vendors selling food and hand-crafted items\, raffle prizes and games. Doors open at 10 AM. Grand Entry is at 12PM and 7PM on Saturday and 12PM on Sunday. Admission is $5 for Adults\, $3 for students\, and seniors (55+) and children under 6 are free.
X-ALT-DESC;FMTTYPE=text/html:Red River Powwow Association is pleased to announce its 15th Annual Social Powwow will be held on September 23 and 24\, 2017 at O&#39\;Connor Field House\, 2207 Blaine St.\, Caldwell\, ID. Everyone is welcome to join us for this family event! This two day celebration includes Native American drumming and dancing. There will be vendors selling food and hand-crafted items\, raffle prizes and games. Doors open at 10 AM. Grand Entry is at 12PM and 7PM on Saturday and 12PM on Sunday. Admission is $5 for Adults\, $3 for students\, and seniors (55+) and children under 6 are free.
LOCATION:O'Connor Field House/Caldwell Events Center\, 2207 Blaine St.\, Caldwell\, ID 83605
UID:e.2335.2796
SEQUENCE:3
DTSTAMP:20260422T044312Z
URL:https://business.caldwellchamber.org/events/details/red-river-15th-annual-social-powwow-2796
END:VEVENT

END:VCALENDAR
