BEGIN:VCALENDAR
VERSION:2.0
PRODID:-//ChamberMaster//Event Calendar 2.0//EN
METHOD:PUBLISH
X-PUBLISHED-TTL:P3D
REFRESH-INTERVAL:P3D
CALSCALE:GREGORIAN
BEGIN:VEVENT
DTSTART:20170112T230000Z
DTEND:20170113T000000Z
X-MICROSOFT-CDO-ALLDAYEVENT:FALSE
SUMMARY:RIbbon Cutting - Kangaroo Clubhouse #3
DESCRIPTION:Please join us for a Ribbon Cutting for Kangaroo Clubhouse #3!
X-ALT-DESC;FMTTYPE=text/html:Please join us for a Ribbon Cutting for Kangaroo Clubhouse #3!
LOCATION:4511 E. Ustick Road Caldwell
UID:e.2335.2040
SEQUENCE:3
DTSTAMP:20260421T140738Z
URL:https://business.caldwellchamber.org/events/details/ribbon-cutting-kangaroo-clubhouse-3-2040
END:VEVENT

END:VCALENDAR
