BEGIN:VCALENDAR
VERSION:2.0
PRODID:-//ChamberMaster//Event Calendar 2.0//EN
METHOD:PUBLISH
X-PUBLISHED-TTL:P3D
REFRESH-INTERVAL:P3D
CALSCALE:GREGORIAN
BEGIN:VEVENT
DTSTART:20170207T220000Z
DTEND:20170208T010000Z
X-MICROSOFT-CDO-ALLDAYEVENT:FALSE
SUMMARY:Ribbon Cutting - Newly Renovated Fairfield Inn
DESCRIPTION:Ribbon Cutting is at 3:30
X-ALT-DESC;FMTTYPE=text/html:Ribbon Cutting is at 3:30
LOCATION:
UID:e.2335.2252
SEQUENCE:3
DTSTAMP:20260421T154656Z
URL:https://business.caldwellchamber.org/events/details/ribbon-cutting-newly-renovated-fairfield-inn-2252
END:VEVENT

END:VCALENDAR
