BEGIN:VCALENDAR
VERSION:2.0
PRODID:-//ChamberMaster//Event Calendar 2.0//EN
METHOD:PUBLISH
X-PUBLISHED-TTL:P3D
REFRESH-INTERVAL:P3D
CALSCALE:GREGORIAN
BEGIN:VEVENT
DTSTART:20160901T154500Z
DTEND:20160901T160000Z
X-MICROSOFT-CDO-ALLDAYEVENT:FALSE
SUMMARY:Ribbon Cutting - Story & Co.
DESCRIPTION:Join us at Story & Company to celebrate the 1 year anniversary of Story & Company under the ownership of Micki Hempsmyer!  There will be snacks and treats\, special prizes\, games and discounts.
X-ALT-DESC;FMTTYPE=text/html:Join us at Story &amp\; Company to celebrate the 1 year anniversary of Story &amp\; Company under the ownership of Micki&nbsp\;Hempsmyer! &nbsp\;There will be snacks and treats\, special prizes\, games and discounts.
LOCATION:724 Arthur Street
UID:e.2335.2004
SEQUENCE:3
DTSTAMP:20260421T154143Z
URL:https://business.caldwellchamber.org/events/details/ribbon-cutting-story-co-2004
END:VEVENT

END:VCALENDAR
