BEGIN:VCALENDAR
VERSION:2.0
PRODID:-//ChamberMaster//Event Calendar 2.0//EN
METHOD:PUBLISH
X-PUBLISHED-TTL:P3D
REFRESH-INTERVAL:P3D
CALSCALE:GREGORIAN
BEGIN:VEVENT
DTSTART:20190726T223000Z
DTEND:20190726T233000Z
X-MICROSOFT-CDO-ALLDAYEVENT:FALSE
SUMMARY:Ribbon Cutting - Terry K. Martin Attorney at Law
DESCRIPTION:Ribbon Cutting - Terry K. Martin Attorney at Law
X-ALT-DESC;FMTTYPE=text/html:Ribbon Cutting - Terry K. Martin Attorney at Law
LOCATION:704 Blaine Street Suite #3 Caldwell\, ID 83605
UID:e.2335.5148
SEQUENCE:3
DTSTAMP:20260423T163539Z
URL:https://business.caldwellchamber.org/events/details/ribbon-cutting-terry-k-martin-attorney-at-law-5148
END:VEVENT

END:VCALENDAR
