BEGIN:VCALENDAR
VERSION:2.0
PRODID:-//ChamberMaster//Event Calendar 2.0//EN
METHOD:PUBLISH
X-PUBLISHED-TTL:P3D
REFRESH-INTERVAL:P3D
CALSCALE:GREGORIAN
BEGIN:VEVENT
DTSTART:20180113T010000Z
DTEND:20180113T040000Z
X-MICROSOFT-CDO-ALLDAYEVENT:FALSE
SUMMARY:Rubaiyat's 7th Anniversary
DESCRIPTION:Open mic reading followed by wine and chocolate cake.
X-ALT-DESC;FMTTYPE=text/html:Open mic reading followed by wine and chocolate cake.&nbsp\;&nbsp\;&nbsp\;&nbsp\;&nbsp\;&nbsp\;&nbsp\;&nbsp\;&nbsp\;
LOCATION:720 Arthur St Caldwell\, ID
UID:e.2335.2962
SEQUENCE:3
DTSTAMP:20260422T092653Z
URL:https://business.caldwellchamber.org/events/details/rubaiyat-s-7th-anniversary-2962
END:VEVENT

END:VCALENDAR
