BEGIN:VCALENDAR
VERSION:2.0
PRODID:-//ChamberMaster//Event Calendar 2.0//EN
METHOD:PUBLISH
X-PUBLISHED-TTL:P3D
REFRESH-INTERVAL:P3D
CALSCALE:GREGORIAN
BEGIN:VEVENT
DTSTART:20160913T170000Z
DTEND:20160913T190000Z
X-MICROSOFT-CDO-ALLDAYEVENT:FALSE
SUMMARY:Sales Strategies: Delivering a Profitable Presentation™
DESCRIPTION:Sales Strategies: Delivering a Profitable Presentation \n\nSelling your products or services doesn't just happen. It takes focus on the right principles and practices. This workshop will concentrate on the development and delivery of an effective sales presentation and a sales plan to compel your target market to buy from you. In this workshop\, you will learn to:\n\n  Identify what selling really is\n\n  Develop a sales strategy and a process   Articulate your value proposition in a 30 second "commercial"\n\n  Utilize a question based approach and closing techniques to win business This workshop is typically offered once per month.\n\nDates: Tuesday\, August 2nd / Tuesday\, September 13th / Tuesday\, October 11th Wednesday\, November 30th Time: 11:00 a.m. to 1:00 p.m.\n\n\n\nCost: Complimentary- but you must register to reserve a space\n\n\n\nPlace: Zions Bank\, Business Resource Center\, 800 W. Main Street\, 6th Floor\, Boise\, ID Parking: Eastman Garage or other downtown garages\n\n\n\nRegistration: Email idresources@zionsbank.com or call 208-501-7573 to reserve your seat Seating: Limited to 18
X-ALT-DESC;FMTTYPE=text/html:Sales Strategies: Delivering a Profitable Presentation&trade\;<br />\nSelling your products or services doesn&rsquo\;t just happen. It takes focus on the right principles and practices. This workshop will concentrate on the development and delivery of an effective sales presentation and a sales plan to compel your target market to buy from you. In this workshop\, you will learn to:<br />\n&bull\; Identify what selling really is<br />\n&bull\; Develop a sales strategy and a process &bull\; Articulate your value proposition in a 30 second &ldquo\;commercial&rdquo\;<br />\n&bull\; Utilize a question based approach and closing techniques to win business This workshop is typically offered once per month.<br />\nDates: Tuesday\, August 2nd / Tuesday\, September 13th / Tuesday\, October 11th Wednesday\, November 30th Time: 11:00 a.m. to 1:00 p.m.<br />\n<br />\nCost: Complimentary- but you must register to reserve a space<br />\n<br />\nPlace: Zions Bank\, Business Resource Center\, 800 W. Main Street\, 6th Floor\, Boise\, ID Parking: Eastman Garage or other downtown garages<br />\n<br />\nRegistration: Email idresources@zionsbank.com or call 208-501-7573 to reserve your seat Seating: Limited to 18
LOCATION:Zions Bank\, Business Resource Center\, 800 W. Main Street\, 6th Floor\, Boise\, ID
UID:e.2335.1989
SEQUENCE:3
DTSTAMP:20260421T170842Z
URL:https://business.caldwellchamber.org/events/details/sales-strategies-delivering-a-profitable-presentation-1989
END:VEVENT

END:VCALENDAR
