BEGIN:VCALENDAR
VERSION:2.0
PRODID:-//ChamberMaster//Event Calendar 2.0//EN
METHOD:PUBLISH
X-PUBLISHED-TTL:P3D
REFRESH-INTERVAL:P3D
CALSCALE:GREGORIAN
BEGIN:VEVENT
DTSTART;VALUE=DATE:20170611
DTEND;VALUE=DATE:20170612
TRANSP:TRANSPARENT
X-MICROSOFT-CDO-ALLDAYEVENT:TRUE
SUMMARY:Savor Idaho ~ Idaho's Premier Wine and Food Event
DESCRIPTION:Savor Idaho ~  Idaho's Premier Wine and Food Event
X-ALT-DESC;FMTTYPE=text/html:<span style="font-family: &quot\;Tahoma&quot\;\,&quot\;sans-serif&quot\;\; font-size: 11.5pt\; mso-fareast-font-family: Calibri\; mso-fareast-theme-font: minor-latin\; mso-ansi-language: EN-US\; mso-fareast-language: EN-US\; mso-bidi-language: AR-SA\;"><font color="#000000">Savor Idaho ~ &nbsp\;Idaho&#39\;s Premier Wine and Food Event</font></span>
LOCATION:Idaho Botanical Garden
UID:e.2335.2486
SEQUENCE:3
DTSTAMP:20260421T234926Z
URL:https://business.caldwellchamber.org/events/details/savor-idaho-idaho-s-premier-wine-and-food-event-2486
END:VEVENT

END:VCALENDAR
