BEGIN:VCALENDAR
VERSION:2.0
PRODID:-//ChamberMaster//Event Calendar 2.0//EN
METHOD:PUBLISH
X-PUBLISHED-TTL:P3D
REFRESH-INTERVAL:P3D
CALSCALE:GREGORIAN
BEGIN:VEVENT
DTSTART:20190710T170000Z
DTEND:20190710T190000Z
X-MICROSOFT-CDO-ALLDAYEVENT:FALSE
SUMMARY:Smart StartUp™ Workshop
DESCRIPTION:If you are a new entrepreneur or are thinking about starting a business\, this workshop is for you! In this two-hour workshop\, you will receive the tools to:   Determine if your business idea is viable   Understand how to formalize your business   Identify key resource partners   Create a funding plan To Register:   Date: Wednesday\, July 10   Time: 11:00 a.m. to 1:00 p.m.   Cost: Complimentary--but you must register to reserve a space   Place: Zions Bank\, Business Resource Center\, 800 W. Main Street\, 6th Floor\, Boise\, ID   Parking: 9th & Main or other downtown garages   Registration: Email idresources@zionsbank.com or call 208-501-7573 to reserve your seat   Seating: Limited to 18 The workshop\, "Smart StartUp "\, is offered for informational purposes only\, and should not be construed as legal or other professional advice. Consult with an attorney or other professional concerning your own needs and circumstances. The views and opinions expressed by the speaker are not necessarily those of Zions Bank \, its parent or affiliates. Zions Bank  is a division of Zions Bancorporation\, N.A. Member FDIC.
X-ALT-DESC;FMTTYPE=text/html:If you are a new entrepreneur or are thinking about starting a business\, this workshop is for you! In this two-hour workshop\, you will receive the tools to: &bull\; Determine if your business idea is viable &bull\; Understand how to formalize your business &bull\; Identify key resource partners &bull\; Create a funding plan To Register: &bull\; Date: Wednesday\, July 10 &bull\; Time: 11:00 a.m. to 1:00 p.m. &bull\; Cost: Complimentary--but you must register to reserve a space &bull\; Place: Zions Bank\, Business Resource Center\, 800 W. Main Street\, 6th Floor\, Boise\, ID &bull\; Parking: 9th &amp\; Main or other downtown garages &bull\; Registration: Email idresources@zionsbank.com or call 208-501-7573 to reserve your seat &bull\; Seating: Limited to 18 The workshop\, &ldquo\;Smart StartUp&trade\;&rdquo\;\, is offered for informational purposes only\, and should not be construed as legal or other professional advice. Consult with an attorney or other professional concerning your own needs and circumstances. The views and opinions expressed by the speaker are not necessarily those of Zions Bank&reg\;\, its parent or affiliates. Zions Bank&reg\; is a division of Zions Bancorporation\, N.A. Member FDIC.
LOCATION:Zions Bank\, Business Resource Center\, 800 W. Main Street\, 6th Floor\, Boise\, ID
UID:e.2335.5132
SEQUENCE:3
DTSTAMP:20260423T162753Z
URL:https://business.caldwellchamber.org/events/details/smart-startup-workshop-07-10-2019-5132
END:VEVENT

END:VCALENDAR
