BEGIN:VCALENDAR
VERSION:2.0
PRODID:-//ChamberMaster//Event Calendar 2.0//EN
METHOD:PUBLISH
X-PUBLISHED-TTL:P3D
REFRESH-INTERVAL:P3D
CALSCALE:GREGORIAN
BEGIN:VEVENT
DTSTART:20190719T230000Z
DTEND:20190720T040000Z
X-MICROSOFT-CDO-ALLDAYEVENT:FALSE
SUMMARY:So\, You Think You Can Sing? Karaoke Competition
DESCRIPTION:It's time to step on the Idaho Central Credit Union Stage and belt out your best rendition of 'Don't Stop Believin' or 'Harper Valley PTA'. Indian Creek Plaza will host a Karaoke competition this summer to highlight the best of Caldwell's talent. The first two nights will be qualifying rounds\, with the finals held on the last evening. The winner of the competition will receive: Tuesday night suite at Caldwell Night Rodeo featuring an unlimited snack bar\, unlimited draft beers and soda\, and a bottle of Pendleton whisky for up to 12 people! This prize is valued at $1500! Second place will receive two '19-'20 season tickets to Caldwell Fine Arts performances. Third place will receive $100 to Ruth Chris Steak House. Local celebrities will also be appearing as 'masked singers' so make sure to get your dinner to go and spend a wonderful night at Indian Creek Plaza!
X-ALT-DESC;FMTTYPE=text/html:It&rsquo\;s time to step on the Idaho Central Credit Union Stage and belt out your best rendition of &lsquo\;Don&rsquo\;t Stop Believin&rsquo\; or &lsquo\;Harper Valley PTA&rsquo\;. Indian Creek Plaza will host a Karaoke competition this summer to highlight the best of Caldwell&rsquo\;s talent. The first two nights will be qualifying rounds\, with the finals held on the last evening. The winner of the competition will receive: Tuesday night suite at Caldwell Night Rodeo featuring an unlimited snack bar\, unlimited draft beers and soda\, and a bottle of Pendleton whisky for up to 12 people! This prize is valued at $1500! Second place will receive two &lsquo\;19-&rsquo\;20 season tickets to Caldwell Fine Arts performances. Third place will receive $100 to Ruth Chris Steak House. Local celebrities will also be appearing as &lsquo\;masked singers&rsquo\; so make sure to get your dinner to go and spend a wonderful night at Indian Creek Plaza!
LOCATION:Indian Creek Plaza 120 S Kimball Ave Caldwell\, ID 83605
UID:e.2335.5097
SEQUENCE:3
DTSTAMP:20260423T163302Z
URL:https://business.caldwellchamber.org/events/details/so-you-think-you-can-sing-karaoke-competition-07-19-2019-5097
END:VEVENT

END:VCALENDAR
