BEGIN:VCALENDAR
VERSION:2.0
PRODID:-//ChamberMaster//Event Calendar 2.0//EN
METHOD:PUBLISH
X-PUBLISHED-TTL:P3D
REFRESH-INTERVAL:P3D
CALSCALE:GREGORIAN
BEGIN:VEVENT
DTSTART;VALUE=DATE:20160903
DTEND;VALUE=DATE:20160904
TRANSP:TRANSPARENT
X-MICROSOFT-CDO-ALLDAYEVENT:TRUE
SUMMARY:Sounds of Summer
DESCRIPTION:Sounds of Summer
X-ALT-DESC;FMTTYPE=text/html:Sounds of Summer
LOCATION:Stewart's Bar & Grill Caldwell Idaho
UID:e.2335.955
SEQUENCE:3
DTSTAMP:20260421T170903Z
URL:https://business.caldwellchamber.org/events/details/sounds-of-summer-09-03-2016-955
END:VEVENT

END:VCALENDAR
