BEGIN:VCALENDAR
VERSION:2.0
PRODID:-//ChamberMaster//Event Calendar 2.0//EN
METHOD:PUBLISH
X-PUBLISHED-TTL:P3D
REFRESH-INTERVAL:P3D
CALSCALE:GREGORIAN
BEGIN:VEVENT
DTSTART:20260506T220000Z
DTEND:20260507T020000Z
X-MICROSOFT-CDO-ALLDAYEVENT:FALSE
SUMMARY:SPIRIT NIGHT for CHS Wrestling Club
DESCRIPTION:Support CHS Wrestling at Arctic Circle! Join us for a night of community spirit and great food! From 4:00 PM to 8:00 PM\, Arctic Circle will donate 20% of all sales to the CHS Wrestling Club. Our talented boys and girls are raising money to attend summer wrestling camp\, and they need your help to get there! We are thrilled to host special guest appearances from CHS alumni\, rising star athletes\, and a recognized National Hall of Fame member. They are coming back home to show their support and they might even join the coaches in the dunk tank! 100% of dunk tank proceeds go directly to the club. Don't miss this big event! Enjoy great food\, meet local legends\, and support our hardworking young athletes. Check us out on Facebook @caldwellarcticcircle for more information.
X-ALT-DESC;FMTTYPE=text/html:Support CHS Wrestling at Arctic Circle! Join us for a night of community spirit and great food! From 4:00 PM to 8:00 PM\, Arctic Circle will donate 20% of all sales to the CHS Wrestling Club. Our talented boys and girls are raising money to attend summer wrestling camp\, and they need your help to get there! We are thrilled to host special guest appearances from CHS alumni\, rising star athletes\, and a recognized National Hall of Fame member. They are coming back home to show their support&mdash\;and they might even join the coaches in the dunk tank! 100% of dunk tank proceeds go directly to the club. Don&#39\;t miss this big event! Enjoy great food\, meet local legends\, and support our hardworking young athletes. Check us out on Facebook @caldwellarcticcircle for more information.
LOCATION:Arctic Circle\, 3108 Cleveland Blvd\, Caldwell\, Idaho
UID:e.2335.7185
SEQUENCE:3
DTSTAMP:20260420T233724Z
URL:https://business.caldwellchamber.org/events/details/spirit-night-for-chs-wrestling-club-7185
END:VEVENT

END:VCALENDAR
