BEGIN:VCALENDAR
VERSION:2.0
PRODID:-//ChamberMaster//Event Calendar 2.0//EN
METHOD:PUBLISH
X-PUBLISHED-TTL:P3D
REFRESH-INTERVAL:P3D
CALSCALE:GREGORIAN
BEGIN:VEVENT
DTSTART:20180208T223000Z
DTEND:20180208T233000Z
X-MICROSOFT-CDO-ALLDAYEVENT:FALSE
SUMMARY:Stereotyped 101. A Workshop on Diversity by Comedian Karith Foster
DESCRIPTION:
X-ALT-DESC;FMTTYPE=text/html:
LOCATION:TVCC Caldwell 205 S. 6th Ave. Room 211
UID:e.2335.2982
SEQUENCE:3
DTSTAMP:20260422T123104Z
URL:https://business.caldwellchamber.org/events/details/stereotyped-101-a-workshop-on-diversity-by-comedian-karith-foster-2982
END:VEVENT

END:VCALENDAR
