BEGIN:VCALENDAR
VERSION:2.0
PRODID:-//ChamberMaster//Event Calendar 2.0//EN
METHOD:PUBLISH
X-PUBLISHED-TTL:P3D
REFRESH-INTERVAL:P3D
CALSCALE:GREGORIAN
BEGIN:VEVENT
DTSTART:20180718T000000Z
DTEND:20180718T030000Z
X-MICROSOFT-CDO-ALLDAYEVENT:FALSE
SUMMARY:Summer Concert Series
DESCRIPTION:Concert series featuring both local and regional musicians\, food trucks\, bars\, and kids activities.\n\n\n\nBands playing as scheduled are:\n\nTejano Outlaw -- August 7\n\nJocelyn and Chris Arndt -- August 14\n\nMarshall Poole -- August 21\n\nTyler and the Train Robbers -- August 28
X-ALT-DESC;FMTTYPE=text/html:Concert series featuring&nbsp\;both local and regional musicians\, food trucks\, bars\, and kids activities.<br />\n<br />\nBands playing as scheduled are:<br />\nTejano Outlaw -- August 7<br />\nJocelyn and Chris Arndt -- August 14<br />\nMarshall Poole -- August 21<br />\nTyler and the Train Robbers -- August 28<br />\n&nbsp\;
LOCATION:Indian Creek Plaza
UID:e.2335.3441
SEQUENCE:3
DTSTAMP:20260422T234050Z
URL:https://business.caldwellchamber.org/events/details/summer-concert-series-07-17-2018-3441
END:VEVENT

END:VCALENDAR
