BEGIN:VCALENDAR
VERSION:2.0
PRODID:-//ChamberMaster//Event Calendar 2.0//EN
METHOD:PUBLISH
X-PUBLISHED-TTL:P3D
REFRESH-INTERVAL:P3D
CALSCALE:GREGORIAN
BEGIN:VEVENT
DTSTART:20180912T180000Z
DTEND:20180912T190000Z
X-MICROSOFT-CDO-ALLDAYEVENT:FALSE
SUMMARY:Summer Yoga Series
DESCRIPTION:
X-ALT-DESC;FMTTYPE=text/html:
LOCATION:Indian Creek Plaza
UID:e.2335.3480
SEQUENCE:3
DTSTAMP:20260423T042115Z
URL:https://business.caldwellchamber.org/events/details/summer-yoga-series-09-12-2018-3480
END:VEVENT

END:VCALENDAR
