BEGIN:VCALENDAR
VERSION:2.0
PRODID:-//ChamberMaster//Event Calendar 2.0//EN
METHOD:PUBLISH
X-PUBLISHED-TTL:P3D
REFRESH-INTERVAL:P3D
CALSCALE:GREGORIAN
BEGIN:VEVENT
DTSTART;VALUE=DATE:20170401
DTEND;VALUE=DATE:20170601
TRANSP:TRANSPARENT
X-MICROSOFT-CDO-ALLDAYEVENT:TRUE
SUMMARY:Sunnyslope Wine Trail: Bud to Blossom Photo Contest
DESCRIPTION:Sunnyslope is picture perfect when the orchards are in bloom and the fields are a patchwork-quilt of colors. This is a great time to drive out and enjoy all that the scenic Sunnyslope Wine Trail has to offer. Invite your friends and family to tour this beautiful countryside. Bring your sense of adventure and your camera! Showcase your favorite shot on Sunnyslope Wine Trail's Facebook page for a chance to win a fantastically floral and wine-rific themed gift basket. Only submissions posted with #sunnyslopewinetrail will be considered! The winner will be announced the first week of June. Please visit www.sunnyslopewinetrail.com for more information regarding the photo contest and related events. There is no cost to enter the contest. Participants must be over 21. Designated drivers are encouraged DO NOT DRINK AND DRIVE.
X-ALT-DESC;FMTTYPE=text/html:Sunnyslope is picture perfect when the orchards are in bloom and the fields are a patchwork-quilt of colors. This is a great time to drive out and enjoy all that the scenic Sunnyslope Wine Trail has to offer. Invite your friends and family to tour this beautiful countryside. Bring your sense of adventure and your camera! Showcase your favorite shot on Sunnyslope Wine Trail&rsquo\;s Facebook page for a chance to win a fantastically floral and wine-rific themed gift basket. Only submissions posted with #sunnyslopewinetrail will be considered! The winner will be announced the first week of June. Please visit www.sunnyslopewinetrail.com for more information regarding the photo contest and related events. There is no cost to enter the contest. Participants must be over 21. Designated drivers are encouraged&mdash\;DO NOT DRINK AND DRIVE.
LOCATION:The Sunnyslope Wine Trail
UID:e.2335.2063
SEQUENCE:3
DTSTAMP:20260421T191054Z
URL:https://business.caldwellchamber.org/events/details/sunnyslope-wine-trail-bud-to-blossom-photo-contest-2063
END:VEVENT

END:VCALENDAR
