BEGIN:VCALENDAR
VERSION:2.0
PRODID:-//ChamberMaster//Event Calendar 2.0//EN
METHOD:PUBLISH
X-PUBLISHED-TTL:P3D
REFRESH-INTERVAL:P3D
CALSCALE:GREGORIAN
BEGIN:VEVENT
DTSTART:20170512T180000Z
DTEND:20170515T000000Z
X-MICROSOFT-CDO-ALLDAYEVENT:FALSE
SUMMARY:Sunnyslope Wine Trail: Mom's Weekend on the Trail
DESCRIPTION:The Sunnyslope Wine Trail thinks that Moms rock! We know you do too. So\, we invite you to bring your mother out to the trail for this open-house weekend. Each winery will be offering something a little different: concerts\, complimentary flowers\, special tastings\, and more. So please check out the website www.sunnyslopewinetrail.com to see how you can show your Mom how important she really is! Tasting fees my apply and are set by the individual wineries. Please use a designated driver DO NOT DRINK AND DRIVE.
X-ALT-DESC;FMTTYPE=text/html:The Sunnyslope Wine Trail thinks that Moms rock! We know you do too. So\, we invite you to bring your mother out to the trail for this open-house weekend. Each winery will be offering something a little different: concerts\, complimentary flowers\, special tastings\, and more. So please check out the website www.sunnyslopewinetrail.com to see how you can show your Mom how important she really is! Tasting fees my apply and are set by the individual wineries. Please use a designated driver&mdash\;DO NOT DRINK AND DRIVE.
LOCATION:Participating wineries of the Sunnyslope Wine Trail.
UID:e.2335.2064
SEQUENCE:3
DTSTAMP:20260421T220630Z
URL:https://business.caldwellchamber.org/events/details/sunnyslope-wine-trail-mom-s-weekend-on-the-trail-2064
END:VEVENT

END:VCALENDAR
