BEGIN:VCALENDAR
VERSION:2.0
PRODID:-//ChamberMaster//Event Calendar 2.0//EN
METHOD:PUBLISH
X-PUBLISHED-TTL:P3D
REFRESH-INTERVAL:P3D
CALSCALE:GREGORIAN
BEGIN:VEVENT
DTSTART:20171124T190000Z
DTEND:20171127T010000Z
X-MICROSOFT-CDO-ALLDAYEVENT:FALSE
SUMMARY:Sunnyslope Wine Trail:Thanksgiving Weekend
DESCRIPTION:Be thankful for Thanksgiving Weekend on the Sunnyslope Wine Trail! After the hubbub of planning\, cooking and family gathering come out to Sunnyslope for this weekend long open house. Each winery will be offering something unique and festive for your to enjoy! For more information about tastings\, specials\, and sales go to www.sunnyslopewinetrail.com. Tasting fees may apply and are set by the individual wineries. Please use a designated driver DO NOT DRINK AND DRIVE.
X-ALT-DESC;FMTTYPE=text/html:Be thankful for Thanksgiving Weekend on the Sunnyslope Wine Trail! After the hubbub of planning\, cooking and family gathering come out to Sunnyslope for this weekend long open house. Each winery will be offering something unique and festive for your to enjoy! For more information about tastings\, specials\, and sales go to www.sunnyslopewinetrail.com. Tasting fees may apply and are set by the individual wineries. Please use a designated driver&mdash\;DO NOT DRINK AND DRIVE.
LOCATION:Participating wineries of the Sunnyslope Wine Trail.
UID:e.2335.2066
SEQUENCE:3
DTSTAMP:20260422T073718Z
URL:https://business.caldwellchamber.org/events/details/sunnyslope-wine-trail-thanksgiving-weekend-2066
END:VEVENT

END:VCALENDAR
