BEGIN:VCALENDAR
VERSION:2.0
PRODID:-//ChamberMaster//Event Calendar 2.0//EN
METHOD:PUBLISH
X-PUBLISHED-TTL:P3D
REFRESH-INTERVAL:P3D
CALSCALE:GREGORIAN
BEGIN:VEVENT
DTSTART:20180919T150000Z
DTEND:20180919T160000Z
X-MICROSOFT-CDO-ALLDAYEVENT:FALSE
SUMMARY:Tai Chi or Qi Gong
DESCRIPTION:Get a low-impact work out in and start your day every Wednesday with a Tai Chi or Qi Gong class on the Plaza!
X-ALT-DESC;FMTTYPE=text/html:Get a low-impact work out in and start your day every Wednesday with a Tai Chi or Qi Gong class on the Plaza!
LOCATION:Indian Creek Plaza
UID:e.2335.4295
SEQUENCE:3
DTSTAMP:20260423T025208Z
URL:https://business.caldwellchamber.org/events/details/tai-chi-or-qi-gong-09-19-2018-4295
END:VEVENT

END:VCALENDAR
