BEGIN:VCALENDAR
VERSION:2.0
PRODID:-//ChamberMaster//Event Calendar 2.0//EN
METHOD:PUBLISH
X-PUBLISHED-TTL:P3D
REFRESH-INTERVAL:P3D
CALSCALE:GREGORIAN
BEGIN:VEVENT
DTSTART:20180601T013000Z
DTEND:20180601T040000Z
X-MICROSOFT-CDO-ALLDAYEVENT:FALSE
SUMMARY:Tamburitzans "Passages - The Journey of Our Ancestors"
DESCRIPTION:Join The Tamburitzans on Thursday\, May 31 at the Jewett Auditorium - College of Idaho for a dazzling two-hour show beginning at 7:30 p.m. that celebrates international people and their cultures through vibrant song\, dance\, music\, and costumes! "Passages   The Journey of Our Ancestors" transports audiences to the heart of over a dozen countries and cultures\, including Austria\, Bulgaria\, Croatia\, Cuba\, Eastern European Roma\, Greece\, Hungary\, Mexico\, Romania\, Serbia\, Slovakia\, Slovenia and Spain. Based in Pittsburgh\, The Tamburitzans are the longest-running live stage show in the United States. Bringing a wealth of performing experience to the stage\, the ensemble features 31 talented young artists who are enrolled in college.
X-ALT-DESC;FMTTYPE=text/html:Join The Tamburitzans on Thursday\, May 31 at the Jewett Auditorium - College of Idaho for a dazzling two-hour show beginning at 7:30 p.m. that celebrates international people and their cultures through vibrant song\, dance\, music\, and costumes! &ldquo\;Passages &ndash\; The Journey of Our Ancestors&rdquo\; transports audiences to the heart of over a dozen countries and cultures\, including Austria\, Bulgaria\, Croatia\, Cuba\, Eastern European Roma\, Greece\, Hungary\, Mexico\, Romania\, Serbia\, Slovakia\, Slovenia and Spain. Based in Pittsburgh\, The Tamburitzans are the longest-running live stage show in the United States. Bringing a wealth of performing experience to the stage\, the ensemble features 31 talented young artists who are enrolled in college.
LOCATION:Jewett Auditorium - College of Idaho
UID:e.2335.3425
SEQUENCE:3
DTSTAMP:20260422T155839Z
URL:https://business.caldwellchamber.org/events/details/tamburitzans-passages-the-journey-of-our-ancestors-3425
END:VEVENT

END:VCALENDAR
