BEGIN:VCALENDAR
VERSION:2.0
PRODID:-//ChamberMaster//Event Calendar 2.0//EN
METHOD:PUBLISH
X-PUBLISHED-TTL:P3D
REFRESH-INTERVAL:P3D
CALSCALE:GREGORIAN
BEGIN:VEVENT
DTSTART:20180428T180000Z
DTEND:20180428T200000Z
X-MICROSOFT-CDO-ALLDAYEVENT:FALSE
SUMMARY:Tea for Hope at the Chateau
DESCRIPTION:Tea for Hope at the Chateau celebrates the accomplishments of Hands of Hope NW as we prepare to send another shipment of medical equipment and supplies to world areas that desperately need them. Guests will enjoy a full English Afternoon Tea with an assortment of savory quiches\, tarts\, sandwiches\, and sweets in the elegant atmosphere of the Chateau des Fleurs. Tickets are available by clicking on the Tea for Hope button at our website www.handsofhope.org
X-ALT-DESC;FMTTYPE=text/html:Tea for Hope at the Chateau celebrates the accomplishments of Hands of Hope NW as we prepare to send another shipment of medical equipment and supplies to world areas that desperately need them. Guests will enjoy a full English Afternoon Tea with an assortment of savory quiches\, tarts\, sandwiches\, and sweets in the elegant atmosphere of the Chateau des Fleurs. Tickets are available by clicking on the Tea for Hope button at our website www.handsofhope.org
LOCATION:Chateau des Fleurs 176 S. Rosebud Lane Eagle\, Idaho 83616
UID:e.2335.2966
SEQUENCE:3
DTSTAMP:20260422T141752Z
URL:https://business.caldwellchamber.org/events/details/tea-for-hope-at-the-chateau-2966
END:VEVENT

END:VCALENDAR
