BEGIN:VCALENDAR
VERSION:2.0
PRODID:-//ChamberMaster//Event Calendar 2.0//EN
METHOD:PUBLISH
X-PUBLISHED-TTL:P3D
REFRESH-INTERVAL:P3D
CALSCALE:GREGORIAN
BEGIN:VEVENT
DTSTART:20170331T160000Z
DTEND:20170331T170000Z
X-MICROSOFT-CDO-ALLDAYEVENT:FALSE
SUMMARY:Team Subaru - Advocates Against Family Violence
DESCRIPTION:Team Subaru of Nampa would like to invite you to attend our Team Subaru Share the Love event on Friday March 31st (3/31/17) at 10:00 AM. Share the Love is a partnership between Team Subaru of Nampa and the Subaru Corporation which allows retailers to choose a hometown charity to support. A donation of $250 was given to Team's selected charity for every Subaru sold or leased between Nov. 17\, 2016 through Jan. 3\, 2017. For this year\, as well as the past several years\, Team Subaru has chosen Advocates Against Family Violence as their chosen beneficiary for this event.\n\n \n\nAdvocates Against Family Violence is a local foundation that works to eliminate violence in families and homes by empowering individuals to make positive life choices through advocacy\, education\, affordable housing\, awareness\, and community involvement.  They will be joining us at Team Subaru on Friday March 31st (3/31/17)\, for this event and they will receive a check from Team Subaru exceeding $12\,000 to help Advocates Against Family Violence in providing their much needed services to our community.\n\n \n\nCome Share the Love with us!\n\n \n\nRob Studebaker \n\nGM
X-ALT-DESC;FMTTYPE=text/html:<strong><span style="color:black\;"><span style="font-family:consolas\;">Team Subaru of Nampa would like to invite you to attend our Team Subaru Share the Love event on Friday March 31st&nbsp\;(3/31/17) at 10:00 AM.</span></span></strong><strong><span style="color:black\;"><span style="font-family:consolas\;">&nbsp\;Share the Love is a partnership between Team Subaru of Nampa and the Subaru Corporation which allows retailers to choose a hometown charity to support. A donation of $250 was given to Team&rsquo\;s selected charity for every Subaru sold or leased between Nov. 17\, 2016 through Jan. 3\, 2017.&nbsp\;For this year\, as well as the past several years\, Team Subaru has chosen Advocates Against Family Violence as their chosen beneficiary for this event.</span></span></strong><br />\n&nbsp\;<br />\n<strong><span style="color:black\;"><span style="font-family:consolas\;">Advocates Against Family Violence is a local foundation that works to eliminate violence in families and homes by empowering individuals to make positive life choices through advocacy\, education\, affordable housing\, awareness\, and community involvement.&nbsp\;&nbsp\;They will be joining us at Team Subaru on Friday March 31st (3/31/17)\, for this event and they&nbsp\;will receive a check from Team Subaru exceeding $12\,000 to help Advocates Against Family Violence in providing their much needed services to our community.</span></span></strong><br />\n&nbsp\;<br />\n<strong><span style="color:black\;"><span style="font-family:consolas\;">Come Share the Love with us!</span></span></strong><br />\n&nbsp\;<br />\n<strong><span style="color:black\;"><span style="font-family:consolas\;">Rob Studebaker&nbsp\;</span></span></strong><br />\n<strong><span style="color:black\;"><span style="font-family:consolas\;">GM</span></span></strong>
LOCATION:Team Subaru of Nampa 6218 Cleveland Boulevard Caldwell\, ID
UID:e.2335.2492
SEQUENCE:3
DTSTAMP:20260421T173508Z
URL:https://business.caldwellchamber.org/events/details/team-subaru-advocates-against-family-violence-2492
END:VEVENT

END:VCALENDAR
