BEGIN:VCALENDAR
VERSION:2.0
PRODID:-//ChamberMaster//Event Calendar 2.0//EN
METHOD:PUBLISH
X-PUBLISHED-TTL:P3D
REFRESH-INTERVAL:P3D
CALSCALE:GREGORIAN
BEGIN:VEVENT
DTSTART:20191027T003000Z
DTEND:20191027T020000Z
X-MICROSOFT-CDO-ALLDAYEVENT:FALSE
SUMMARY:Teen After-Hours Party: Outbreak Escape Room
DESCRIPTION:Will the dead rise again? Ages 13-18\, Registration and permission slip required! Welcome to the Zombie Institute where the top researchers are working to uncover the cure behind an outbreak that threatens humanity. After the epidemic-scare of 2035\, top scientists from around the globe have dedicated their lives researching the Gen-Z Virus - a fast-acting virus that turns humans into brainless undead. You have scheduled a tour of The Zombie Institute. Your group will get to tour the research labs and view our zombie research subjects! *Please note\, a permission slip is required for each teen attending the event. For questions or concerns\, please contact Ellie Epperson at eepperson@cityofcaldwell.org or call 208-459-3242*
X-ALT-DESC;FMTTYPE=text/html:Will the dead rise again? Ages 13-18\, Registration and permission slip required! Welcome to the Zombie Institute where the top researchers are working to uncover the cure behind an outbreak that threatens humanity. After the epidemic-scare of 2035\, top scientists from around the globe have dedicated their lives researching the Gen-Z Virus - a fast-acting virus that turns humans into brainless undead. You have scheduled a tour of The Zombie Institute. Your group will get to tour the research labs and view our zombie research subjects! *Please note\, a permission slip is required for each teen attending the event. For questions or concerns\, please contact Ellie Epperson at eepperson@cityofcaldwell.org or call 208-459-3242*
LOCATION:Caldwell Public Library\, 1010 Dearborn St
UID:e.2335.5416
SEQUENCE:3
DTSTAMP:20260423T205525Z
URL:https://business.caldwellchamber.org/events/details/teen-after-hours-party-outbreak-escape-room-5416
END:VEVENT

END:VCALENDAR
