BEGIN:VCALENDAR
VERSION:2.0
PRODID:-//ChamberMaster//Event Calendar 2.0//EN
METHOD:PUBLISH
X-PUBLISHED-TTL:P3D
REFRESH-INTERVAL:P3D
CALSCALE:GREGORIAN
BEGIN:VEVENT
DTSTART;VALUE=DATE:20171110
DTEND;VALUE=DATE:20171111
TRANSP:TRANSPARENT
X-MICROSOFT-CDO-ALLDAYEVENT:TRUE
SUMMARY:The Chamber Office will be closed for Veterans Day
DESCRIPTION:The Chamber office will be closed for Veterans Day on Friday\, November 10th.  The office will reopen on Monday\, August 13 at 8:00 am.
X-ALT-DESC;FMTTYPE=text/html:The Chamber office will be closed for Veterans Day on Friday\, November 10th.&nbsp\; The office will reopen on Monday\, August 13 at 8:00 am.
LOCATION:
UID:e.2335.2938
SEQUENCE:3
DTSTAMP:20260422T075012Z
URL:https://business.caldwellchamber.org/events/details/the-chamber-office-will-be-closed-for-veterans-day-2938
END:VEVENT

END:VCALENDAR
