BEGIN:VCALENDAR
VERSION:2.0
PRODID:-//ChamberMaster//Event Calendar 2.0//EN
METHOD:PUBLISH
X-PUBLISHED-TTL:P3D
REFRESH-INTERVAL:P3D
CALSCALE:GREGORIAN
BEGIN:VEVENT
DTSTART;VALUE=DATE:20181021
DTEND;VALUE=DATE:20181022
TRANSP:TRANSPARENT
X-MICROSOFT-CDO-ALLDAYEVENT:TRUE
SUMMARY:The Gala of The Royal Horses
DESCRIPTION:Experience the excitement\, splendor\, and majesty of the most beautiful horses in the world like never before\, in a spectacular show for the entire family.
X-ALT-DESC;FMTTYPE=text/html:Experience the excitement\, splendor\, and majesty of the most beautiful horses in the world like never before\, in a spectacular show for the entire family.&nbsp\;
LOCATION:Canyon County Fairgrounds
UID:e.2335.4407
SEQUENCE:3
DTSTAMP:20260423T055204Z
URL:https://business.caldwellchamber.org/events/details/the-gala-of-the-royal-horses-4407
END:VEVENT

END:VCALENDAR
