BEGIN:VCALENDAR
VERSION:2.0
PRODID:-//ChamberMaster//Event Calendar 2.0//EN
METHOD:PUBLISH
X-PUBLISHED-TTL:P3D
REFRESH-INTERVAL:P3D
CALSCALE:GREGORIAN
BEGIN:VEVENT
DTSTART:20191019T170000Z
DTEND:20191020T050000Z
X-MICROSOFT-CDO-ALLDAYEVENT:FALSE
SUMMARY:The Great Downtown Pumpkin Festival
DESCRIPTION:The Great Downtown Pumpkin Festival is held in conjunction with BOO BASH\, an annual truck or treat put on by Treasure Valley Community College in downtown Caldwell\, creating a full day of fall fun! Enjoy or participate the pumpkin carving contest\, giant pumpkin weigh-off\, pumpkin pie eating contest\, the Indian Creek Pumpkin Race\, the downtown wine walk\, vendors and more!
X-ALT-DESC;FMTTYPE=text/html:The Great Downtown Pumpkin Festival is held in conjunction with BOO BASH\, an annual truck or treat put on by Treasure Valley Community College in downtown Caldwell\, creating a full day of fall fun! Enjoy or participate the pumpkin carving contest\, giant pumpkin weigh-off\, pumpkin pie eating contest\, the Indian Creek Pumpkin Race\, the downtown wine walk\, vendors and more!
LOCATION:Indian Creek Plaza 120 S Kimball Ave. Caldwell\, ID 83605
UID:e.2335.5102
SEQUENCE:3
DTSTAMP:20260423T205522Z
URL:https://business.caldwellchamber.org/events/details/the-great-downtown-pumpkin-festival-5102
END:VEVENT

END:VCALENDAR
