BEGIN:VCALENDAR
VERSION:2.0
PRODID:-//ChamberMaster//Event Calendar 2.0//EN
METHOD:PUBLISH
X-PUBLISHED-TTL:P3D
REFRESH-INTERVAL:P3D
CALSCALE:GREGORIAN
BEGIN:VEVENT
DTSTART:20200214T020000Z
DTEND:20200214T020000Z
X-MICROSOFT-CDO-ALLDAYEVENT:FALSE
SUMMARY:The Secret Love Life of Birds - Julie Steele
DESCRIPTION:Julie Steele presents The Secret Love Life of Birds Birds have almost as many strategies as people do for getting together. Avian mating styles have been a topic of recent research and ornithologists now recognized how subtle and diverse bird partnerships really are.
X-ALT-DESC;FMTTYPE=text/html:Julie Steele presents The Secret Love Life of Birds Birds have almost as many strategies as people do for getting together. Avian mating styles have been a topic of recent research and ornithologists now recognized how subtle and diverse bird partnerships really are.
LOCATION:Deer Flat NWR Visitor Center at 13751 Upper Embankment Rd. Nampa\, Idaho.
UID:e.2335.5484
SEQUENCE:3
DTSTAMP:20260424T022312Z
URL:https://business.caldwellchamber.org/events/details/the-secret-love-life-of-birds-julie-steele-5484
END:VEVENT

END:VCALENDAR
