BEGIN:VCALENDAR
VERSION:2.0
PRODID:-//ChamberMaster//Event Calendar 2.0//EN
METHOD:PUBLISH
X-PUBLISHED-TTL:P3D
REFRESH-INTERVAL:P3D
CALSCALE:GREGORIAN
BEGIN:VEVENT
DTSTART:20161217T020000Z
DTEND:20161217T040000Z
X-MICROSOFT-CDO-ALLDAYEVENT:FALSE
SUMMARY:Traditions of Christmas
DESCRIPTION:Traditions of Christmas is a Radio City Music Hall style show that inspires the hearts of audience members of all ages. Travel on a journey through time and heritage. Tears well up and hearts are filled with respect as the USO performance takes the stage and our military is honored. Throughout the show\, your favorite Christmas classics are brought to life with song and dance. Crowds are amazed by the beautifully choreographed kick-line tap numbers\, and children light up as we travel north to Santa?s workshop. The grand Nativity conclusion reminds us all that there is a purpose behind the celebration. Featuring a cast of 70 people\, spectacular sets\, live animals\, and over 400 costumes\, Traditions of Christmas is truly an experience you won?t want to miss.
X-ALT-DESC;FMTTYPE=text/html:Traditions of Christmas is a Radio City Music Hall style show that inspires the hearts of audience members of all ages. Travel on a journey through time and heritage. Tears well up and hearts are filled with respect as the USO performance takes the stage and our military is honored. Throughout the show\, your favorite Christmas classics are brought to life with song and dance. Crowds are amazed by the beautifully choreographed kick-line tap numbers\, and children light up as we travel north to Santa?s workshop. The grand Nativity conclusion reminds us all that there is a purpose behind the celebration. Featuring a cast of 70 people\, spectacular sets\, live animals\, and over 400 costumes\, Traditions of Christmas is truly an experience you won?t want to miss.
LOCATION:Nampa Civic Center 311 3rd St S Nampa\, ID 83651
UID:e.2335.947
SEQUENCE:3
DTSTAMP:20260421T112939Z
URL:https://business.caldwellchamber.org/events/details/traditions-of-christmas-12-16-2016-947
END:VEVENT

END:VCALENDAR
