BEGIN:VCALENDAR
VERSION:2.0
PRODID:-//ChamberMaster//Event Calendar 2.0//EN
METHOD:PUBLISH
X-PUBLISHED-TTL:P3D
REFRESH-INTERVAL:P3D
CALSCALE:GREGORIAN
BEGIN:VEVENT
DTSTART:20160911T210000Z
DTEND:20160912T000000Z
X-MICROSOFT-CDO-ALLDAYEVENT:FALSE
SUMMARY:Traditions of Christmas Auditions
DESCRIPTION:Kickline (Ages 15+): Rehearses one day a week on Sundays from mid - August-December. Requirements: Height 5'3" to 5'10"\, Dress size 2-8\, flexible dancer with tap experience Please bring: clothes to dance in\, and tap shoes if you have them\, please **Please note that there some costume pieces you may have to purchase if you are cast. Info available at auditions.\n\n\n\nKids (Ages 8-12): Rehearses one day a week on Wednesday nights mid October-December.  Requirements: Ages 8-12. Singing\, dancing\, and acting. Please prepare: 16 bars of a song Please bring: sheet music or a karaoke track to accompany your song\, clothes to move in for your dance audition\, and 1 copy of your headshot and resume **Parents are required to work backstage in the kids dressing room for two performances Adults (Ages 18+) Rehearses one day a week on Monday nights late September-December.\n\n\n\nRequirements: 18+ years\, singers. Dancing not required Please prepare: 16 bars of a song Please bring: sheet music or a karaoke track to accompany your song\, clothes to move in if you are called back to dance (not everyone will be called back to dance)\, and 1 copy of your headshot and resume **Most adult and teen roles are non-dancing!\n\n\n\nTeens (Ages 13-17): Rehearses one day a week on Monday nights late September-December. Requirements: 13-17 years. Need male and female singers. We may also be in need of a few teen females with jazz dance experience. Please prepare: 16 bars of a song Please bring: sheet music or a karaoke track to accompany your song\, clothes to move in if you are called back to dance (not everyone will be called back to dance)\, and 1 copy of your headshot and resume **Most adult and teen roles are non-dancing!\n\n\n\nChristmas Couples (Ages 18-30): Rehearses twice a week on Sundays and Tuesdays late September-December.  Requirements: Adults 18-30 years\, strong singers and dancers. Dancing is mainly couples dancing. Costume sizes 2-10 for ladies. Christmas Couples will be cast from Adult Auditions.
X-ALT-DESC;FMTTYPE=text/html:Kickline (Ages 15+): Rehearses one day a week on Sundays from mid - August-December. Requirements: Height 5&#39\;3&quot\; to 5&#39\;10&quot\;\, Dress size 2-8\, flexible dancer with tap experience Please bring: clothes to dance in\, and tap shoes if you have them\, please **Please note that there some costume pieces you may have to purchase if you are cast. Info available at auditions.<br />\n<br />\nKids (Ages 8-12): Rehearses one day a week on Wednesday nights mid October-December. &nbsp\;Requirements: Ages 8-12. Singing\, dancing\, and acting. Please prepare: 16 bars of a song Please bring: sheet music or a karaoke track to accompany your song\, clothes to move in for your dance audition\, and 1 copy of your headshot and resume **Parents are required to work backstage in the kids dressing room for two performances Adults (Ages 18+) Rehearses one day a week on Monday nights late September-December.<br />\n<br />\nRequirements: 18+ years\, singers. Dancing not required Please prepare: 16 bars of a song Please bring: sheet music or a karaoke track to accompany your song\, clothes to move in if you are called back to dance (not everyone will be called back to dance)\, and 1 copy of your headshot and resume **Most adult and teen roles are non-dancing!<br />\n<br />\nTeens (Ages 13-17): Rehearses one day a week on Monday nights late September-December. Requirements: 13-17 years. Need male and female singers. We may also be in need of a few teen females with jazz dance experience. Please prepare: 16 bars of a song Please bring: sheet music or a karaoke track to accompany your song\, clothes to move in if you are called back to dance (not everyone will be called back to dance)\, and 1 copy of your headshot and resume **Most adult and teen roles are non-dancing!<br />\n<br />\nChristmas Couples (Ages 18-30): Rehearses twice a week on Sundays and Tuesdays late September-December. &nbsp\;Requirements: Adults 18-30 years\, strong singers and dancers. Dancing is mainly couples dancing. Costume sizes 2-10 for ladies. Christmas Couples will be cast from Adult Auditions.
LOCATION:Nampa Civic Center 311 3rd St S\, Nampa\, ID 83651
UID:e.2335.2007
SEQUENCE:3
DTSTAMP:20260421T152858Z
URL:https://business.caldwellchamber.org/events/details/traditions-of-christmas-auditions-2007
END:VEVENT

END:VCALENDAR
