BEGIN:VCALENDAR
VERSION:2.0
PRODID:-//ChamberMaster//Event Calendar 2.0//EN
METHOD:PUBLISH
X-PUBLISHED-TTL:P3D
REFRESH-INTERVAL:P3D
CALSCALE:GREGORIAN
BEGIN:VEVENT
DTSTART:20160902T143000Z
DTEND:20160902T152500Z
X-MICROSOFT-CDO-ALLDAYEVENT:FALSE
SUMMARY:Travel and Tourism Committee
DESCRIPTION:This committee's mission is to retain\, attract\, and expand the Travel and Tourism Industry in Caldwell and the surrounding area\; thereby\, fully developing Caldwell's potential and ultimately enhancing our community.
X-ALT-DESC;FMTTYPE=text/html:This committee&#39\;s mission is to retain\, attract\, and expand the Travel and Tourism Industry in Caldwell and the surrounding area\; thereby\, fully developing Caldwell&#39\;s potential and ultimately enhancing our community.
LOCATION:Chamber offices 704 Blaine Street
UID:e.2335.1856
SEQUENCE:3
DTSTAMP:20260421T153936Z
URL:https://business.caldwellchamber.org/events/details/travel-and-tourism-committee-09-09-2016-1856
END:VEVENT

END:VCALENDAR
