BEGIN:VCALENDAR
VERSION:2.0
PRODID:-//ChamberMaster//Event Calendar 2.0//EN
METHOD:PUBLISH
X-PUBLISHED-TTL:P3D
REFRESH-INTERVAL:P3D
CALSCALE:GREGORIAN
BEGIN:VEVENT
DTSTART:20161204T010000Z
DTEND:20161204T033000Z
X-MICROSOFT-CDO-ALLDAYEVENT:FALSE
SUMMARY:Treasure Valley Night Light Parade-Christmas Around the World
DESCRIPTION:Come join us for our spectacular Treasure Valley Night Light Parade!\n\nApplications:  http://caldwellchamber.org/wp-content/uploads/2016/02/TVNL-Parade-entry-form-2016-C.pdf\n\nFINAL DAY FOR ENTRIES IS MONDAY 11/28/16\n\nFacebook Page: https://www.facebook.com/TreasureValleyNightLightParade/
X-ALT-DESC;FMTTYPE=text/html:Come join us for our spectacular Treasure Valley Night Light Parade!<br />\nApplications:&nbsp\; <a href="http://caldwellchamber.org/wp-content/uploads/2016/02/TVNL-Parade-entry-form-2016-C.pdf">http://caldwellchamber.org/wp-content/uploads/2016/02/TVNL-Parade-entry-form-2016-C.pdf</a><br />\nFINAL DAY FOR ENTRIES IS MONDAY 11/28/16<br />\nFacebook Page: <a href="https://www.facebook.com/TreasureValleyNightLightParade/">https://www.facebook.com/TreasureValleyNightLightParade/</a>
LOCATION:Georgia and Blaine down Blaine to 5th Ave. There will not be Parking allowed on Blaine Street This year between Georgia & 5th. Once again\, no parking on the parade route. There are a number of businesses that close by 4 pm on Saturday's please utilize those parking lots\, and other adjoining streets to the parade.
UID:e.2335.890
SEQUENCE:3
DTSTAMP:20260421T113113Z
URL:https://business.caldwellchamber.org/events/details/treasure-valley-night-light-parade-christmas-around-the-world-12-03-2016-890
END:VEVENT

END:VCALENDAR
