BEGIN:VCALENDAR
VERSION:2.0
PRODID:-//ChamberMaster//Event Calendar 2.0//EN
METHOD:PUBLISH
X-PUBLISHED-TTL:P3D
REFRESH-INTERVAL:P3D
CALSCALE:GREGORIAN
BEGIN:VEVENT
DTSTART:20190806T230000Z
DTEND:20190807T030000Z
X-MICROSOFT-CDO-ALLDAYEVENT:FALSE
SUMMARY:Tuesdays on the Creek
DESCRIPTION:Spend your Tuesday evenings in downtown Caldwell and enjoy live music from popular local and touring artists\, purchase produce and farm fresh goods created within miles\, and enjoy beer and wine sourced from the Treasure Valley.
X-ALT-DESC;FMTTYPE=text/html:Spend your Tuesday evenings in downtown Caldwell and enjoy live music from popular local and touring artists\, purchase produce and farm fresh goods created within miles\, and enjoy beer and wine sourced from the Treasure Valley.
LOCATION:Indian Creek Plaza 120 S Kimball Ave. Caldwell\, ID 83605
UID:e.2335.5091
SEQUENCE:3
DTSTAMP:20260423T180739Z
URL:https://business.caldwellchamber.org/events/details/tuesdays-on-the-creek-08-06-2019-5091
END:VEVENT

END:VCALENDAR
