BEGIN:VCALENDAR
VERSION:2.0
PRODID:-//ChamberMaster//Event Calendar 2.0//EN
METHOD:PUBLISH
X-PUBLISHED-TTL:P3D
REFRESH-INTERVAL:P3D
CALSCALE:GREGORIAN
BEGIN:VEVENT
DTSTART:20190820T230000Z
DTEND:20190821T030000Z
X-MICROSOFT-CDO-ALLDAYEVENT:FALSE
SUMMARY:Tuesdays on the Creek
DESCRIPTION:This Tuesday\, spend your evening enjoying live music\, visiting the Farmer's Market booths to purchase your favorite produce and farm fresh goods created within miles\, and enjoy beer and wine sourced from the Treasure Valley. FARMER'S MARKET 4 PM - 9 PM LIVE MUSIC 6 PM - 7 PM | Brook Faulk and Dustin Morris 7:20 PM - 9 PM | Jocelyn & Chris Arndt
X-ALT-DESC;FMTTYPE=text/html:This Tuesday\, spend your evening enjoying live music\, visiting the Farmer&rsquo\;s Market booths to purchase your favorite produce and farm fresh goods created within miles\, and enjoy beer and wine sourced from the Treasure Valley. FARMER&rsquo\;S MARKET 4 PM - 9 PM LIVE MUSIC 6 PM - 7 PM | Brook Faulk and Dustin Morris 7:20 PM - 9 PM | Jocelyn &amp\; Chris Arndt
LOCATION:Indian Creek Plaza 120 S Kimball Ave. Caldwell\, ID 83605
UID:e.2335.5089
SEQUENCE:3
DTSTAMP:20260423T192403Z
URL:https://business.caldwellchamber.org/events/details/tuesdays-on-the-creek-08-20-2019-5089
END:VEVENT

END:VCALENDAR
