BEGIN:VCALENDAR
VERSION:2.0
PRODID:-//ChamberMaster//Event Calendar 2.0//EN
METHOD:PUBLISH
X-PUBLISHED-TTL:P3D
REFRESH-INTERVAL:P3D
CALSCALE:GREGORIAN
BEGIN:VEVENT
DTSTART:20190827T230000Z
DTEND:20190828T030000Z
X-MICROSOFT-CDO-ALLDAYEVENT:FALSE
SUMMARY:Tuesdays on the Creek
DESCRIPTION:This Tuesday\, spend your evening enjoying live music\, visiting the Farmer's Market booths to purchase your favorite produce and farm fresh goods created within miles\, and enjoy beer and wine sourced from the Treasure Valley. LIVE MUSIC 6 PM - 7 PM | Ira Wolf 7 PM - 9 PM | Jeff Crosby & the Refugees
X-ALT-DESC;FMTTYPE=text/html:This Tuesday\, spend your evening enjoying live music\, visiting the Farmer&rsquo\;s Market booths to purchase your favorite produce and farm fresh goods created within miles\, and enjoy beer and wine sourced from the Treasure Valley. LIVE MUSIC 6 PM - 7 PM | Ira Wolf 7 PM - 9 PM | Jeff Crosby &amp\; the Refugees
LOCATION:Indian Creek Plaza 120 S Kimball Ave Caldwell\, ID 83605
UID:e.2335.5090
SEQUENCE:3
DTSTAMP:20260423T180706Z
URL:https://business.caldwellchamber.org/events/details/tuesdays-on-the-creek-08-27-2019-5090
END:VEVENT

END:VCALENDAR
