BEGIN:VCALENDAR
VERSION:2.0
PRODID:-//ChamberMaster//Event Calendar 2.0//EN
METHOD:PUBLISH
X-PUBLISHED-TTL:P3D
REFRESH-INTERVAL:P3D
CALSCALE:GREGORIAN
BEGIN:VEVENT
DTSTART:20161220T230000Z
DTEND:20161221T000000Z
X-MICROSOFT-CDO-ALLDAYEVENT:FALSE
SUMMARY:TVNL Committee Wrap up
DESCRIPTION:Treasure Valley Night Light Parade Committee Meeting
X-ALT-DESC;FMTTYPE=text/html:Treasure Valley Night Light Parade Committee Meeting
LOCATION:Wrap up 2016 Chamber Office
UID:e.2335.2070
SEQUENCE:3
DTSTAMP:20260421T112223Z
URL:https://business.caldwellchamber.org/events/details/tvnl-committee-wrap-up-2070
END:VEVENT

END:VCALENDAR
