BEGIN:VCALENDAR
VERSION:2.0
PRODID:-//ChamberMaster//Event Calendar 2.0//EN
METHOD:PUBLISH
X-PUBLISHED-TTL:P3D
REFRESH-INTERVAL:P3D
CALSCALE:GREGORIAN
BEGIN:VEVENT
DTSTART:20170101T173000Z
DTEND:20170102T023000Z
X-MICROSOFT-CDO-ALLDAYEVENT:FALSE
SUMMARY:VanO Barrel racing and time runs
DESCRIPTION:Indoors with smaller arena. Time runs at 10:30 a.m. and jackpot at 1:30 p.m. Concessions on site.
X-ALT-DESC;FMTTYPE=text/html:Indoors with smaller arena. Time runs at 10:30 a.m. and jackpot at 1:30 p.m. Concessions on site.
LOCATION:Canyon County Fairgrounds 111 22nd. Ave. Caldwell\, Idaho 83605
UID:e.2335.2051
SEQUENCE:3
DTSTAMP:20260421T140315Z
URL:https://business.caldwellchamber.org/events/details/vano-barrel-racing-and-time-runs-2051
END:VEVENT

END:VCALENDAR
