BEGIN:VCALENDAR
VERSION:2.0
PRODID:-//ChamberMaster//Event Calendar 2.0//EN
METHOD:PUBLISH
X-PUBLISHED-TTL:P3D
REFRESH-INTERVAL:P3D
CALSCALE:GREGORIAN
BEGIN:VEVENT
DTSTART:20161029T210000Z
DTEND:20161030T000000Z
X-MICROSOFT-CDO-ALLDAYEVENT:FALSE
SUMMARY:Walk on the Wild Side at Creepy Critter Encounters
DESCRIPTION:Kids of all ages are invited to put a little nature into Halloween at Deer Flat National Wildlife Refuge's Creepy Critter Encounters from 3:00 to 6:00 p.m. on Saturday\, October 29th. Attendees can see live animals such as reptiles and insects.  Visitors can also learn about creatures of the Refuge on a spooky hike\, create Halloween crafts\, and listen to spooky stories. Before the close of the event\, visitors are welcome to hoot for owls and howl for coyotes. Costumes are welcome!\n\nCreepy Critter Encounters provides free family fun and will be held rain or shine at the refuge Visitor Center near Lake Lowell.  The Visitor Center entrance road is located at the intersection of Roosevelt and Indiana in Nampa. This event is supported by AmeriCorps and the Friends of Deer Flat Wildlife Refuge. For more information\, call 208-467-9278 or visit http://www.fws.gov/refuge/deer_flat.
X-ALT-DESC;FMTTYPE=text/html:<span style="color:black\;">Kids of all ages are invited to put a little nature into Halloween at Deer Flat National Wildlife Refuge&rsquo\;s Creepy Critter Encounters from 3:00 to 6:00 p.m. on Saturday\, October 29<sup>th</sup>. Attendees can see live animals such as reptiles and insects.&nbsp\; Visitors can also learn about creatures of the Refuge on a spooky hike\, create Halloween crafts\, and listen to spooky stories. Before the close of the event\, visitors are welcome to hoot for owls and howl for coyotes. Costumes are welcome!</span><br />\n<span style="color:black\;">Creepy Critter Encounters provides free family fun and will be held rain or shine at the refuge Visitor Center near Lake Lowell.&nbsp\; The Visitor Center entrance road is located at the intersection of Roosevelt and Indiana in Nampa. This event is supported by AmeriCorps and the Friends of Deer Flat Wildlife Refuge. For more information\, call 208-467-9278 or visit </span><a href="http://www.fws.gov/refuge/deer_flat">http://www.fws.gov/refuge/deer_flat</a><span style="color:black\;">.</span>
LOCATION:13751 Upper Embankment Road Nampa\, ID
UID:e.2335.2023
SEQUENCE:3
DTSTAMP:20260421T135718Z
URL:https://business.caldwellchamber.org/events/details/walk-on-the-wild-side-at-creepy-critter-encounters-2023
END:VEVENT

END:VCALENDAR
