BEGIN:VCALENDAR
VERSION:2.0
PRODID:-//ChamberMaster//Event Calendar 2.0//EN
METHOD:PUBLISH
X-PUBLISHED-TTL:P3D
REFRESH-INTERVAL:P3D
CALSCALE:GREGORIAN
BEGIN:VEVENT
DTSTART:20180220T003000Z
DTEND:20180220T020000Z
X-MICROSOFT-CDO-ALLDAYEVENT:FALSE
SUMMARY:Walk to End Alzheimer's Volunteer Kick-Off Party
DESCRIPTION:Come learn about the Walk Planning Committee and how you can get more involved in the fight against Alzheimer's!
X-ALT-DESC;FMTTYPE=text/html:Come learn about the Walk Planning Committee and how you can get more involved in the fight against Alzheimer&#39\;s!
LOCATION:Meridian Senior Center 1920 N. Records Way Meridian\, ID 83642
UID:e.2335.2984
SEQUENCE:3
DTSTAMP:20260422T105946Z
URL:https://business.caldwellchamber.org/events/details/walk-to-end-alzheimer-s-volunteer-kick-off-party-2984
END:VEVENT

END:VCALENDAR
