BEGIN:VCALENDAR
VERSION:2.0
PRODID:-//ChamberMaster//Event Calendar 2.0//EN
METHOD:PUBLISH
X-PUBLISHED-TTL:P3D
REFRESH-INTERVAL:P3D
CALSCALE:GREGORIAN
BEGIN:VEVENT
DTSTART:20181116T000000Z
DTEND:20181116T050000Z
X-MICROSOFT-CDO-ALLDAYEVENT:FALSE
SUMMARY:Warren Miller Film Festival & Premiere Party
DESCRIPTION:Dear Campus Community\,\n			The College of Idaho Yotes Ski Team would like to cordially invite you to the 2018 Warren Miller Premiere Party and Film Festival.\n\n			\n\n			Here the details are:\n\n			Thursday\, November 15th \n\n			\n				Appetizers and Drinks at Beside Bardenay at 5 pm\n				Warren Miller presentation Face of Winter at Egyptian Theater (Boise) at 7 pm\n			\n			Proceeds to benefit the C of I Ski team!\n\n			\n\n			Tickets are selling fast!  Get yours today!
X-ALT-DESC;FMTTYPE=text/html:<table align="left" border="0" cellpadding="0" cellspacing="0" style="width:100.0%\;border-collapse:collapse\;" width="100%">\n	<tbody>\n		<tr>\n			<td style="padding:0in 13.5pt 6.75pt 13.5pt\;vertical-align:top\;">\n			<h3>Dear Campus Community\,</h3>\n			<span style="color:gray\;"><span style="font-family:helvetica\,sans-serif\;"><span style="font-size:12.0pt\;">The College of Idaho Yotes Ski Team would like to cordially invite you to the 2018 Warren Miller Premiere&nbsp\;Party and Film Festival.<br />\n			<br />\n			Here the details are:</span></span></span><br />\n			<span style="color:gray\;"><span style="font-family:helvetica\,sans-serif\;"><span style="font-size:12.0pt\;">Thursday\, November 15th </span></span></span>\n\n			<ul>\n				<li style="color:gray\;line-height:150%\;-ms-text-size-adjust:100%\;-webkit-text-size-adjust:100%\;"><span style="font-family:helvetica\,sans-serif\;"><span style="font-size:12.0pt\;">Appetizers and Drinks at Beside Bardenay at 5 pm</span></span></li>\n				<li style="color:gray\;line-height:150%\;-ms-text-size-adjust:100%\;-webkit-text-size-adjust:100%\;"><span style="font-family:helvetica\,sans-serif\;"><span style="font-size:12.0pt\;">Warren Miller presentation <strong><span style="font-family:helvetica\,sans-serif\;">Face of Winter </span></strong>at Egyptian Theater (Boise) at 7 pm</span></span></li>\n			</ul>\n			<span style="color:gray\;"><span style="font-family:helvetica\,sans-serif\;"><span style="font-size:12.0pt\;">Proceeds to benefit the C of I Ski team!<br />\n			<br />\n			Tickets are selling fast!&nbsp\; Get yours today!<br />\n			&nbsp\;</span></span></span></td>\n		</tr>\n	</tbody>\n</table>\n
LOCATION:
UID:e.2335.4597
SEQUENCE:3
DTSTAMP:20260423T055349Z
URL:https://business.caldwellchamber.org/events/details/warren-miller-film-festival-premiere-party-4597
END:VEVENT

END:VCALENDAR
